Workbook

Sheet קרא אותי
A1: מה פרסמו המועמדים ברשתות - נתונים גולמיים וסיווג
A3: תקופה | B3: 16.9.2026 עד 17.10.2026 (הבחירות: 27.10.2026)
A4: מועמדים | B4: 13: נתניהו, בן גביר, סמוטריץ', דרעי, אשר, וינטר, בנט, איזנקוט, ליברמן, גולן, הנדל, עבאס, ג'בארין
A5: רשתות | B5: X, פייסבוק, אינסטגרם, טיקטוק
A6: גושים | B6: ימין: נתניהו, בן גביר, סמוטריץ', ש"ס, יהדות התורה, וינטר. שינוי: בנט, איזנקוט, גולן, ליברמן. מחוץ לגושים: הנדל, עבאס, ג'בארין
A7: כלל הסיווג | B7: ב-X סווגו כל הפוסטים. בפייסבוק, באינסטגרם ובטיקטוק סווג רק תוכן שלא הופיע ברשת אחרת. אצל הנדל, וינטר, עבאס וג'בארין (כמעט לא פעילים ב-X) סווגו כל הפוסטים באינסטגרם
A8: כמויות | B8: בגיליון 'כמויות לפי רשת': כל הפוסטים שפורסמו בכל רשת, וכמה מהם סווגו
A9: מגבלות | B9: פייסבוק לא נאסף לוינטר, דרעי ואשר; אצל הנדל עד 2.10; העדכון של 16-17.10 לא כולל פייסבוק. תאריכי פייסבוק משוערים לפי התווית היחסית. לאשר אין אינסטגרם פעיל, ולדרעי ולאשר אין טיקטוק רשמי. החשבון הראשי של וינטר ב-X מושעה, ונאסף @Ofer_Winter2026
A10: שיטה | B10: איסוף ידני מהפרופילים הציבוריים; כל פוסט סווג לקטגוריה ראשית (ולעיתים משנית) ולמטרה שהוא תוקף. בדיקת אימות: מדגם אקראי נבדק מול המקור, וקידוד עיוור של מדגם ב-X הסכים עם הסיווג ב-80% בקטגוריה הראשית ו-91% בזיהוי נגטיב
A11: תווית AI | B11: 'כן' רק כשהפלטפורמה עצמה הציגה תווית תוכן AI
A13: קטגוריה | B13: הגדרה
A14: נגטיב על הגוש היריב | B14: תקיפה של מועמד, מפלגה או ממשלה מהגוש השני (או של מי שמחוץ לגוש של הכותב)
A15: נגטיב מתוך הגוש | B15: תקיפה, לחץ פומבי או הסתייגות ממפלגה מאותו גוש (כולל "אל תבזבזו קול" על מפלגות מאותו גוש)
... A30: אחר | B30: אין מספיק מידע, למשל סרטון בלי טקסט

Sheet פוסטים
A1: תאריך | B1: מועמד | C1: גוש | D1: רשת | E1: קטגוריה ראשית | F1: קטגוריה משנית | G1: מטרת התקיפה | H1: תקציר | I1: פורמט | J1: צפיות | K1: תווית AI | L1: קישור
A2: 2026-10-17 | B2: עבאס | C2: מחוץ לגושים | D2: אינסטגרם | E2: נגטיב על הגוש היריב | G2: הימין | H2: הימין משיק קמפיין מפוברק לפגוע בהצבעה לרעמ" | I2: תמונה | L2: https://www.instagram.com/p/DemcDkkO9_G/
A3: 2026-10-17 | B3: עבאס | C3: מחוץ לגושים | D3: אינסטגרם | E3: תגובה לאירוע | F3: נגטיב על הגוש היריב | G3: בן גביר | H3: תקיפת המועמד עבד אל-כרים עזאם בנצרת: "נשלח את בן גביר לאופוזיציה" | I3: וידאו | L3: https://www.instagram.com/p/DemzLmERUR1/
A4: 2026-10-17 | B4: סמוטריץ' | C4: ימין | D4: אינסטגרם | E4: כנס ושטח | F4: סיסמה וקריאה להצביע | H4: בבית של נעמה בכפר תבור: "כן סמוטריץ'" | I4: תמונה | L4: https://www.instagram.com/p/DemlzI0tQkp/
A5: 2026-10-17 | B5: סמוטריץ' | C5: ימין | D5: אינסטגרם | E5: הצטרפויות ותמיכות | H5: תומך: "יוצאים לבחור - רק סמוטריץ'" | I5: תמונה | L5: https://www.instagram.com/p/DempWqdsN6V/
A6: 2026-10-17 | B6: סמוטריץ' | C6: ימין | D6: אינסטגרם | E6: הצטרפויות ותמיכות | H6: 10 ימים לבחירות: כן סמוטריץ' - תומך מקריית שמונה | I6: תמונה | L6: https://www.instagram.com/p/DemtaociPuX/
A7: 2026-10-17 | B7: סמוטריץ' | C7: ימין | D7: X | E7: תגובה לאירוע | F7: תוכנית מהותית | H7: ירי במהלך כנס הצ"ד בלוד: "אובדן משילות בערים המעורבות"; תוכנית לנשק בחברה הערבית | I7: וידאו | J7: 34K | L7: https://x.com/bezalelsm/status/2111546455181639945
A8: 2026-10-17 | B8: נתניהו | C8: ימין | D8: אינסטגרם | E8: כנס ושטח | F8: סיסמה וקריאה להצביע | H8: שבוע טוב, תודה מעלה אדומים! תיקו בין ימין לפלסטין | I8: וידאו | L8: https://www.instagram.com/p/Dem8MeDMVw1/
A9: 2026-10-17 | B9: נתניהו | C9: ימין | D9: טיקטוק | E9: נגטיב על הגוש היריב | F9: סיסמה וקריאה להצביע | G9: איזנקוט; ליברמן; טיבי | H9: מצביעים מחל ועוצרים ממשלה של איזנקוט, ליברמן, טיבי והאחים המוסלמים | I9: וידאו | J9: 42.3K | L9: https://www.tiktok.com/@bnetanyahu/video/7697707440455929095
A10: 2026-10-17 | B10: נתניהו | C10: ימין | D10: X | E10: סיסמה וקריאה להצביע | F10: הופעה בתקשורת | H10: קרב צמוד: ימין או פלסטין; פרומו לראיון הערב | I10: וידאו | J10: 110K | L10: https://x.com/netanyahu/status/2111549670367662590
A11: 2026-10-17 | B11: נתניהו | C11: ימין | D11: X | E11: הישגים ותדמית | F11: נגטיב על הגוש היריב | G11: השמאל | H11: לא הקשבתי לשמאל - וחיסלנו את סינוואר | I11: וידאו | J11: 75K | L11: https://x.com/netanyahu/status/2111543176301621531
A12: 2026-10-17 | B12: נתניהו | C12: ימין | D12: X | E12: נגטיב על הגוש היריב | G12: בנט | H12: בכיר במפלגת בנט מצהיר שיקימו מדינה פלסטינית | I12: וידאו | J12: 73K | L12: https://x.com/netanyahu/status/2111541290022162849
A13: 2026-10-17 | B13: נתניהו | C13: ימין | D13: X | E13: אחר | H13: תודה (תמונה) | I13: תמונה | J13: 87K | L13: https://x.com/netanyahu/status/2111536670185345386
A14: 2026-10-17 | B14: נתניהו | C14: ימין | D14: X | E14: הצטרפויות ותמיכות | H14: תמיד נשמור על אחינו הדרוזים | I14: וידאו | J14: 70K | L14: https://x.com/netanyahu/status/2111535296139440408
A15: 2026-10-17 | B15: נתניהו | C15: ימין | D15: X | E15: נגטיב על הגוש היריב | F15: סיסמה וקריאה להצביע | G15: ליברמן; איזנקוט; גולן; המפלגות הערביות | H15: ממשלת שמאל מסוכנת; "להצביע מחל" | I15: וידאו | J15: 55K | L15: https://x.com/netanyahu/status/2111506314073453021
A16: 2026-10-17 | B16: נתניהו | C16: ימין | D16: X | E16: סיסמה וקריאה להצביע | H16: לא מפחדים. גאים להצביע. יוצאים מהארון ויוצאים להצביע ליכוד | I16: וידאו | J16: 115K | L16: https://x.com/netanyahu/status/2111485112026345771
A17: 2026-10-17 | B17: ליברמן | C17: שינוי | D17: אינסטגרם | E17: סיסמה וקריאה להצביע | H17: לעולם לא אתפשר על גיוס לכולם | I17: וידאו | L17: https://www.instagram.com/p/DemR8cPCFQm/
A18: 2026-10-17 | B18: ליברמן | C18: שינוי | D18: טיקטוק | E18: סיסמה וקריאה להצביע | H18: חייבים לנצח ואנחנו ננצח! | I18: וידאו | J18: 4645 | L18: https://www.tiktok.com/@avigdor.liberman/video/7697635579252575495
A19: 2026-10-17 | B19: ליברמן | C19: שינוי | D19: X | E19: הצטרפויות ותמיכות | H19: מברך את לפיד: "לא תקום ממשלת מיעוט שתישען על המפלגות הערביות" | I19: טקסט | J19: 21K | L19: https://x.com/AvigdorLiberman/status/2111530962882273291
A20: 2026-10-17 | B20: ליברמן | C20: שינוי | D20: X | E20: תגובה לאירוע | F20: נגטיב על הגוש היריב | G20: נתניהו; כ"ץ; בן גביר | H20: פורעים ביו"ש: "ביבי, שר הביטחון והשר לבט"פ לא עושים דבר" | I20: טקסט | J20: 13K | L20: https://x.com/AvigdorLiberman/status/2111507708428140902
A21: 2026-10-17 | B21: ליברמן | C21: שינוי | D21: X | E21: נגטיב על הגוש היריב | F21: תוכנית מהותית | G21: נתניהו; אוחנה | H21: חייבים לסלק את ביבי: החלפת יו"ר הכנסת ו"חוק הנאשם" | I21: טקסט | J21: 169K | L21: https://x.com/AvigdorLiberman/status/2111481211956711710
A22: 2026-10-17 | B22: ליברמן | C22: שינוי | D22: X | E22: תוכנית מהותית | H22: תחבורה ציבורית בשבת לפי צביון כל עיר | I22: טקסט | J22: 20K | L22: https://x.com/AvigdorLiberman/status/2111419572871897404
A23: 2026-10-17 | B23: ליברמן | C23: שינוי | D23: X | E23: נגטיב מתוך הגוש | F23: סיסמה וקריאה להצביע | G23: מפלגות אווירה | H23: לגוש: "לא לפזר קולות על מפלגות אווירה"; יעד 76% הצבעה | I23: טקסט | J23: 71K | L23: https://x.com/AvigdorLiberman/status/2111373837866557443
A24: 2026-10-17 | B24: ליברמן | C24: שינוי | D24: X | E24: סיסמה וקריאה להצביע | H24: ככה אנחנו ננצח בענק! | I24: וידאו | J24: 8.5K | L24: https://x.com/AvigdorLiberman/status/2111358596323889530
A25: 2026-10-17 | B25: וינטר | C25: ימין | D25: אינסטגרם | E25: סיסמה וקריאה להצביע | H25: הבחירה שלכם | I25: תמונה | L25: https://www.instagram.com/p/DempJPvCDD_/
A26: 2026-10-17 | B26: וינטר | C26: ימין | D26: אינסטגרם | E26: סיסמה וקריאה להצביע | F26: ביטחון ומדיניות | H26: רק וינטר יביא תפיסת ביטחון חדשה לישראל | I26: תמונה | L26: https://www.instagram.com/p/Dem_I-jCF6Q/
A27: 2026-10-17 | B27: דרעי | C27: ימין | D27: X | E27: סיסמה וקריאה להצביע | H27: לא יקום ולא יהיה. | I27: וידאו | J27: 34K | L27: https://x.com/ariyederi/status/2111506683554070644
A28: 2026-10-17 | B28: גולן | C28: שינוי | D28: אינסטגרם | E28: סיסמה וקריאה להצביע | H28: אל תגידו יום יבוא - שימו אמת בקלפי | I28: וידאו | L28: https://www.instagram.com/p/DemFIybsZ8D/
A29: 2026-10-17 | B29: גולן | C29: שינוי | D29: טיקטוק | E29: הישגים ותדמית | H29: ככה עושים את הטרנד? | I29: וידאו | J29: 28.5K | L29: https://www.tiktok.com/@yairgolan_/video/7697548900697230599
A30: 2026-10-17 | B30: גולן | C30: שינוי | D30: X | E30: נגטיב על הגוש היריב | G30: נתניהו | H30: האיש שמכר את ישראל לגולדקנופף ודרעי - שלא יעז להטיף לנו על יהדות | I30: טקסט | J30: 9.8K | L30: https://x.com/YairGolan1/status/2111527597397999657
A31: 2026-10-17 | B31: גולן | C31: שינוי | D31: X | E31: נגטיב מתוך הגוש | F31: סיסמה וקריאה להצביע | G31: איזנקוט | H31: הגוש קובע. לא המפלגה הגדולה | I31: תמונה | J31: 10K | L31: https://x.com/YairGolan1/status/2111507023724495250
A32: 2026-10-17 | B32: גולן | C32: שינוי | D32: X | E32: כנס ושטח | H32: בשוק טירה: "ישראל של עסקים פתוחים בשבת וחיים משותפים" | I32: תמונה | J32: 9.3K | L32: https://x.com/YairGolan1/status/2111489676389601282
A33: 2026-10-17 | B33: גולן | C33: שינוי | D33: X | E33: כנס ושטח | H33: אין מפלגה בישראל עם שטח כזה | I33: וידאו | J33: 6.2K | L33: https://x.com/YairGolan1/status/2111458235542536465
A34: 2026-10-17 | B34: גולן | C34: שינוי | D34: X | E34: תגובה לאירוע | F34: נגטיב על הגוש היריב | G34: נתניהו; סמוטריץ' | H34: תקיפת דיפלומטים ביו"ש: "קואליציית נתניהו-סמוטריץ' מטביעה אותנו בטרור" | I34: טקסט | J34: 24K | L34: https://x.com/YairGolan1/status/2111451690167570622
A35: 2026-10-17 | B35: גולן | C35: שינוי | D35: X | E35: סיסמה וקריאה להצביע | H35: שבת בביג גלילות: "ישראל חופשית, שפויה, דמוקרטית" | I35: תמונה | J35: 24K | L35: https://x.com/YairGolan1/status/2111423836797174000
A36: 2026-10-17 | B36: גולן | C36: שינוי | D36: X | E36: ביטחון ומדיניות | F36: נגטיב על הגוש היריב | G36: הממשלה | H36: חמאס בדיוק במצב של 6.10.2023 | I36: וידאו | J36: 7.7K | L36: https://x.com/YairGolan1/status/2111396816818422066
A37: 2026-10-17 | B37: גולן | C37: שינוי | D37: X | E37: הדהוד התבטאות | H37: הודעה מצעירה: "השינוי קרוב מאי פעם" | I37: תמונה | J37: 11K | L37: https://x.com/YairGolan1/status/2111382856299917641
A38: 2026-10-17 | B38: גולן | C38: שינוי | D38: X | E38: סיסמה וקריאה להצביע | H38: עוד עשרה ימים חוזרים הביתה - לדמוקרטים | I38: וידאו | J38: 11K | L38: https://x.com/YairGolan1/status/2111332970283897092
A39: 2026-10-17 | B39: גולן | C39: שינוי | D39: X | E39: נגטיב על הגוש היריב | F39: תגובה לאירוע | G39: סמוטריץ'; בן גביר | H39: הטרור היהודי מתודלק על ידי סמוטריץ' ובן גביר | I39: תמונה | J39: 13K | L39: https://x.com/YairGolan1/status/2111324605864636907
A40: 2026-10-17 | B40: ג'בארין | C40: מחוץ לגושים | D40: אינסטגרם | E40: כנס ושטח | H40: כנס בכפר קרע | I40: תמונה | L40: https://www.instagram.com/p/Dem5eOpAhgw/
A41: 2026-10-17 | B41: ג'בארין | C41: מחוץ לגושים | D41: X | E41: תגובה לאירוע | F41: נגטיב על הגוש היריב | G41: נתניהו; סמוטריץ'; הממשלה | H41: תקיפת דיפלומטים בידי "טרוריסטים מתנחלים, בגיבוי הממשלה" | I41: תמונה | J41: 1K | L41: https://x.com/DrJabareen/status/2111509549270118525
A42: 2026-10-17 | B42: בנט | C42: שינוי | D42: אינסטגרם | E42: הופעה בתקשורת | H42: 3 (וחצי) דקות עם נפתלי בנט - שיתוף עם משפיענית | I42: וידאו | L42: https://www.instagram.com/p/DemlP9Gtn5s/
A43: 2026-10-17 | B43: בנט | C43: שינוי | D43: טיקטוק | E43: אחר | H43: רק אומרים שזה יכול להיראות גם ככה… | I43: וידאו | J43: 37.3K | L43: https://www.tiktok.com/@naftalibennett_official/video/7697667959753411860
A44: 2026-10-17 | B44: בנט | C44: שינוי | D44: X | E44: הצטרפויות ותמיכות | F44: נגטיב מתוך הגוש | G44: סמוטריץ' | H44: איתמר מרחובות, ציוני דתי, עובר מסמוטריץ' לבנט | I44: וידאו | J44: 16K | L44: https://x.com/naftalibennett/status/2111545409311220131
A45: 2026-10-17 | B45: בנט | C45: שינוי | D45: X | E45: נגטיב על הגוש היריב | G45: לא צוין | H45: זו בגידה! מה עובר עליכם? | I45: וידאו | J45: 28K | L45: https://x.com/naftalibennett/status/2111516250337652833
A46: 2026-10-17 | B46: בנט | C46: שינוי | D46: X | E46: הדהוד התבטאות | H46: תודה ברק: יועץ לשעבר מספר על בנט בתקופת הקורונה | I46: טקסט+ציטוט | J46: 15K | L46: https://x.com/naftalibennett/status/2111499689010835732
A47: 2026-10-17 | B47: בנט | C47: שינוי | D47: X | E47: הדהוד התבטאות | H47: תודה רותי: "בנט עושה קמפיין לפנתיאון" | I47: טקסט+ציטוט | J47: 18K | L47: https://x.com/naftalibennett/status/2111497993278902450
A48: 2026-10-17 | B48: בנט | C48: שינוי | D48: X | E48: כנס ושטח | H48: פרלמנט מתלבטים בפתח תקווה | I48: וידאו | J48: 12K | L48: https://x.com/naftalibennett/status/2111485359208980651
A49: 2026-10-17 | B49: בן גביר | C49: ימין | D49: אינסטגרם | E49: הופעה בתקשורת | H49: פודקאסט "הכול פתוח": "מה הביא את בן גביר לדמעות" | I49: וידאו | L49: https://www.instagram.com/p/Demef8LierX/
A50: 2026-10-17 | B50: בן גביר | C50: ימין | D50: X | E50: נגטיב מתוך הגוש | G50: נתניהו | H50: דברי השגריר לייטר "מוכיחים" שנתניהו מתכנן ממשלת אחדות עם איזנקוט בלי בן גביר | I50: טקסט+ציטוט | J50: 36K | L50: https://x.com/itamarbengvir/status/2111521320013795611
A51: 2026-10-17 | B51: בן גביר | C51: ימין | D51: X | E51: נגטיב על הגוש היריב | G51: גולן | H51: יאיר גולן השר לביטחון לאומי? - ניסוי חברתי | I51: וידאו | J51: 13K | L51: https://x.com/itamarbengvir/status/2111502576646767070
A52: 2026-10-17 | B52: איזנקוט | C52: שינוי | D52: אינסטגרם | E52: הופעה בתקשורת | H52: משפיען: "היו לי שאלות פתוחות לגדי" - שיתוף | I52: וידאו | L52: https://www.instagram.com/p/DembjHeoSss/
A53: 2026-10-17 | B53: איזנקוט | C53: שינוי | D53: X | E53: נגטיב על הגוש היריב | F53: תגובה לאירוע | G53: ינון מגל; נתניהו | H53: מגל כינה אותו "קוף": "הבעיה היא האיש שעומד מאחוריו" | I53: וידאו | J53: 53K | L53: https://x.com/gadi_eisenkot/status/2111535188970807313
A54: 2026-10-17 | B54: איזנקוט | C54: שינוי | D54: X | E54: נגטיב על הגוש היריב | G54: נתניהו | H54: ראיון נתניהו ב-i24: "ניתוק מהמציאות של אדם מפוחד ולחוץ" | I54: טקסט | J54: 46K | L54: https://x.com/gadi_eisenkot/status/2111516785010786424
A55: 2026-10-17 | B55: איזנקוט | C55: שינוי | D55: X | E55: תוכנית מהותית | F55: ביטחון ומדיניות | H55: תוך 18 חודשים חמאס לא ישלוט ברצועה | I55: וידאו | J55: 6.8K | L55: https://x.com/gadi_eisenkot/status/2111510373904085434
A56: 2026-10-17 | B56: איזנקוט | C56: שינוי | D56: X | E56: הופעה בתקשורת | F56: נגטיב על הגוש היריב | G56: נתניהו; הליכוד | H56: נתניהו ושרי הליכוד פחדו מהתמרון; קטע מראיון | I56: וידאו | J56: 10K | L56: https://x.com/gadi_eisenkot/status/2111497844704043399
A57: 2026-10-17 | B57: איזנקוט | C57: שינוי | D57: X | E57: תגובה לאירוע | F57: נגטיב על הגוש היריב | G57: הממשלה | H57: טרור יהודי בחסות ממשלת ישראל: תקיפת דיפלומטים ביו"ש | I57: טקסט | J57: 178K | L57: https://x.com/gadi_eisenkot/status/2111484070420992396
A58: 2026-10-16 | B58: עבאס | C58: מחוץ לגושים | D58: אינסטגרם | E58: סיסמה וקריאה להצביע | H58: יש מי שעסוק בטיקטוק, רעמ עסוקה בדאגות האנשים" | I58: וידאו | L58: https://www.instagram.com/p/DekA2j_O4nV/
A59: 2026-10-16 | B59: סמוטריץ' | C59: ימין | D59: אינסטגרם | E59: סיסמה וקריאה להצביע | H59: קוד קופון 'כן סמוטריץ'' | I59: תמונה | L59: https://www.instagram.com/p/DejM1jONOXe/
A60: 2026-10-16 | B60: סמוטריץ' | C60: ימין | D60: X | E60: כנס ושטח | H60: תודה ל-5,500 פעילים בכנס הציונות הדתית | I60: וידאו | J60: 9K | L60: https://x.com/bezalelsm/status/2111078646085722267
A61: 2026-10-16 | B61: סמוטריץ' | C61: ימין | D61: X | E61: אחר | H61: תבדוק @YinonMagal | I61: טקסט | J61: 1.9K | L61: https://x.com/bezalelsm/status/2111033455740149987
A62: 2026-10-16 | B62: סמוטריץ' | C62: ימין | D62: X | E62: אחר | H62: פטנט חדש. לא יודע אם אמיתי | I62: וידאו | J62: 15K | L62: https://x.com/bezalelsm/status/2111033315864334390
A63: 2026-10-16 | B63: סמוטריץ' | C63: ימין | D63: X | E63: הישגים ותדמית | H63: שלושה דורות בתמונה אחת | I63: תמונה | J63: 45K | L63: https://x.com/bezalelsm/status/2111006671593992611
A64: 2026-10-16 | B64: נתניהו | C64: ימין | D64: אינסטגרם | E64: תקיפת מוסדות/תקשורת | F64: נגטיב מתוך הגוש | G64: פוש; בן גביר | H64: עמוד "פוש" "מתחזה לחדשות" ומקדם את ליברמן, איזנקוט, בנט "וגם את בן גביר" | I64: וידאו | L64: https://www.instagram.com/p/DejrPmtMhY0/
A65: 2026-10-16 | B65: נתניהו | C65: ימין | D65: X | E65: טקס וזיכרון | F65: נגטיב על הגוש היריב | G65: איזנקוט | H65: שנתיים לחיסול סינוואר: "לא היה קורה בגישת איזנקוט" | I65: טקסט | J65: 193K | L65: https://x.com/netanyahu/status/2111106891099087033
A66: 2026-10-16 | B66: נתניהו | C66: ימין | D66: X | E66: נגטיב על הגוש היריב | F66: הישגים ותדמית | G66: איזנקוט | H66: אם הייתי מקשיב לאיזנקוט, סינוואר היה היום בחיים | I66: וידאו | J66: 75K | L66: https://x.com/netanyahu/status/2111102339205505381
A67: 2026-10-16 | B67: נתניהו | C67: ימין | D67: X | E67: נגטיב על הגוש היריב | G67: ליברמן; איזנקוט; גולן | H67: ליברמן מדבר ימין ועושה שמאל | I67: וידאו | J67: 65K | L67: https://x.com/netanyahu/status/2111101147725627780
A68: 2026-10-16 | B68: נתניהו | C68: ימין | D68: X | E68: נגטיב על הגוש היריב | G68: איזנקוט; ליברמן; גולן; המפלגות הערביות | H68: אחד הסרטונים הכי חשובים: אין להם ממשלה בלי האחים המוסלמים | I68: וידאו | J68: 131K | L68: https://x.com/netanyahu/status/2111075146798707077
A69: 2026-10-16 | B69: נתניהו | C69: ימין | D69: X | E69: מדיניות חוץ | H69: The Jewish people's right to their own state (באנגלית) | I69: וידאו | J69: 738K | L69: https://x.com/netanyahu/status/2111051808429035545
A70: 2026-10-16 | B70: ליברמן | C70: שינוי | D70: אינסטגרם | E70: תקיפת מוסדות/תקשורת | G70: ערוץ 14 | H70: פנליסטית שלעגה למשקלו: "איך הפכנו את זה לליגיטימי בפריים טיים?" | I70: וידאו | L70: https://www.instagram.com/p/DejFadutm3U/
A71: 2026-10-16 | B71: ליברמן | C71: שינוי | D71: אינסטגרם | E71: סיסמה וקריאה להצביע | H71: שימו ל' בקלפי ואני אגייס את כולם | I71: וידאו | L71: https://www.instagram.com/p/DejLma9xhuH/
A72: 2026-10-16 | B72: ליברמן | C72: שינוי | D72: אינסטגרם | E72: סיסמה וקריאה להצביע | H72: רוצים שלט של ליברמן למרפסת? | I72: תמונה | L72: https://www.instagram.com/p/DejeO28DR6H/
A73: 2026-10-16 | B73: ליברמן | C73: שינוי | D73: אינסטגרם | E73: הישגים ותדמית | H73: אייפון 20 - סרטון הומור עם משפיענית | I73: וידאו | L73: https://www.instagram.com/p/DejhO_VsXMJ/
A74: 2026-10-16 | B74: ליברמן | C74: שינוי | D74: טיקטוק | E74: ברכות וחגים | H74: שבת שלום | I74: וידאו | J74: 7677 | L74: https://www.tiktok.com/@avigdor.liberman/video/7697309706611641608
A75: 2026-10-16 | B75: ליברמן | C75: שינוי | D75: X | E75: הופעה בתקשורת | F75: נגטיב מתוך הגוש | G75: ראשי האופוזיציה | H75: ראיון לערוץ 13: "להפסיק לדבר על ממשלת מיעוט צרה" | I75: וידאו | J75: 16K | L75: https://x.com/AvigdorLiberman/status/2111165415791407306
A76: 2026-10-16 | B76: ליברמן | C76: שינוי | D76: X | E76: הישגים ותדמית | H76: חיה ותן לחיות: אשתו דתייה והוא חילוני | I76: תמונה | J76: 15K | L76: https://x.com/AvigdorLiberman/status/2111104431538278638
A77: 2026-10-16 | B77: ליברמן | C77: שינוי | D77: X | E77: הדהוד תקשורת | F77: סיסמה וקריאה להצביע | H77: 86.7% הצבעה בנציגויות בחו"ל | I77: טקסט+ציטוט | J77: 10K | L77: https://x.com/AvigdorLiberman/status/2111079464817840581
A78: 2026-10-16 | B78: ליברמן | C78: שינוי | D78: X | E78: תוכנית מהותית | H78: חוק גיוס לכולם אחרי הבחירות | I78: טקסט | J78: 17K | L78: https://x.com/AvigdorLiberman/status/2111042652435362021
A79: 2026-10-16 | B79: ליברמן | C79: שינוי | D79: X | E79: נגטיב מתוך הגוש | G79: איזנקוט | H79: גדי איזנקוט - בני גנץ 2: קמפיין "המפלגה הגדולה" שותה קולות בגוש | I79: תמונה | J79: 112K | L79: https://x.com/AvigdorLiberman/status/2111011463758246265
A80: 2026-10-16 | B80: ליברמן | C80: שינוי | D80: X | E80: סיסמה וקריאה להצביע | H80: הבחירות מתנהלות בסקרים ובספינים - קריאה להתמקד | I80: טקסט | J80: 57K | L80: https://x.com/AvigdorLiberman/status/2110939292486754645
A81: 2026-10-16 | B81: וינטר | C81: ימין | D81: אינסטגרם | E81: כנס ושטח | H81: חרשנו את הארץ: גבעת שמואל, רעננה, אילת, שומרון, ת"א | I81: תמונה | L81: https://www.instagram.com/p/DejgPBWCOQM/
A82: 2026-10-16 | B82: הנדל | C82: מחוץ לגושים | D82: אינסטגרם | E82: כנס ושטח | H82: מפגש בראשון לציון | I82: וידאו | L82: https://www.instagram.com/p/Dei-fxlsyZ-/
A83: 2026-10-16 | B83: הנדל | C83: מחוץ לגושים | D83: אינסטגרם | E83: סיסמה וקריאה להצביע | H83: הפעם שמים 'די' בקלפי; ממשלה ציונית | I83: תמונה | L83: https://www.instagram.com/p/DejjtE9jLR-/
A84: 2026-10-16 | B84: הנדל | C84: מחוץ לגושים | D84: אינסטגרם | E84: כנס ושטח | F84: סיסמה וקריאה להצביע | H84: מפגש בתל אביב: "עוד 11 יום שמים 'די'" | I84: וידאו | L84: https://www.instagram.com/p/DejwHU3MbzG/
A85: 2026-10-16 | B85: גולן | C85: שינוי | D85: טיקטוק | E85: הישגים ותדמית | H85: אז מה היה לנו רק השבוע? - סיכום שבוע | I85: וידאו | J85: 3740 | L85: https://www.tiktok.com/@yairgolan_/video/7697243973441670416
A86: 2026-10-16 | B86: גולן | C86: שינוי | D86: X | E86: נגטיב על הגוש היריב | F86: סיסמה וקריאה להצביע | G86: נתניהו | H86: אחדות עם נתניהו? לא יקום ולא יהיה | I86: וידאו | J86: 22K | L86: https://x.com/YairGolan1/status/2111148993409602009
A87: 2026-10-16 | B87: גולן | C87: שינוי | D87: X | E87: תוכנית מהותית | H87: רכבת קלה בשבת | I87: וידאו | J87: 25K | L87: https://x.com/YairGolan1/status/2111104669980246287
A88: 2026-10-16 | B88: גולן | C88: שינוי | D88: X | E88: נגטיב על הגוש היריב | G88: חרדים | H88: אין לי כוונה שמישהו מבניי ייהרג עבור אוכלוסייה שלא משרתת | I88: וידאו | J88: 31K | L88: https://x.com/YairGolan1/status/2111089129156976896
A89: 2026-10-16 | B89: גולן | C89: שינוי | D89: X | E89: סיסמה וקריאה להצביע | H89: עוד 11 יום נציל את ישראל | I89: וידאו | J89: 14K | L89: https://x.com/YairGolan1/status/2111004220480532544
A90: 2026-10-16 | B90: גולן | C90: שינוי | D90: X | E90: תוכנית מהותית | H90: להוציא את הדת מהמרחב הציבורי = למגר כפייה דתית | I90: טקסט | J90: 41K | L90: https://x.com/YairGolan1/status/2110976847248797821
A91: 2026-10-16 | B91: גולן | C91: שינוי | D91: X | E91: הצטרפויות ותמיכות | F91: תוכנית מהותית | H91: הצטרפות "הירוקים"; משבר האקלים כביטחון לאומי | I91: וידאו | J91: 6K | L91: https://x.com/YairGolan1/status/2110976661466337387
A92: 2026-10-16 | B92: גולן | C92: שינוי | D92: X | E92: הישגים ותדמית | H92: מלובש ומוכן | I92: תמונה | J92: 38K | L92: https://x.com/YairGolan1/status/2110972676793639154
A93: 2026-10-16 | B93: ג'בארין | C93: מחוץ לגושים | D93: אינסטגרם | E93: כנס ושטח | F93: סיסמה וקריאה להצביע | H93: כנס באום אל-פחם: "המשותפת היא הכוח המכריע בהפלת הממשלה" | I93: וידאו | L93: https://www.instagram.com/p/DejTiVlx8gP/
A94: 2026-10-16 | B94: ג'בארין | C94: מחוץ לגושים | D94: אינסטגרם | E94: סיסמה וקריאה להצביע | H94: מה תרצו להעביר לנו? - פנייה לציבור ולמתנדבים | I94: וידאו | L94: https://www.instagram.com/p/DekCvdrAJZf/
A95: 2026-10-16 | B95: ג'בארין | C95: מחוץ לגושים | D95: X | E95: תגובה לאירוע | F95: נגטיב על הגוש היריב | G95: מתנחלים; הממשלה | H95: תקיפת הצלמת היידי לוין ופריצה למטה המשותפת (באנגלית) | I95: טקסט | J95: 685 | L95: https://x.com/DrJabareen/status/2111100742371004859
A96: 2026-10-16 | B96: בנט | C96: שינוי | D96: טיקטוק | E96: נגטיב על הגוש היריב | G96: בן גביר | H96: כל האמת על דיבורי עונש המוות של בן גביר | I96: וידאו | J96: 190.4K | L96: https://www.tiktok.com/@naftalibennett_official/video/7697198411291888916
A97: 2026-10-16 | B97: בנט | C97: שינוי | D97: טיקטוק | E97: סיסמה וקריאה להצביע | H97: בואו נדבר על ביצועים, לא על קישקושים | I97: וידאו | J97: 46.7K | L97: https://www.tiktok.com/@naftalibennett_official/video/7697137447704055060
A98: 2026-10-16 | B98: בנט | C98: שינוי | D98: X | E98: נגטיב על הגוש היריב | F98: סיסמה וקריאה להצביע | G98: הממשלה | H98: הממשלה הזאת היא לא ימין. אני נשארתי ימני | I98: וידאו | J98: 2.5K | L98: https://x.com/naftalibennett/status/2111014933118758931
A99: 2026-10-16 | B99: בנט | C99: שינוי | D99: X | E99: הדהוד התבטאות | F99: נגטיב על הגוש היריב | G99: ליכוד; עוצמה יהודית | H99: מהדהד פאנל בתיכון על השתמטות | I99: וידאו+ציטוט | J99: 4.4K | L99: https://x.com/naftalibennett/status/2111003725506429327
A100: 2026-10-16 | B100: בנט | C100: שינוי | D100: X | E100: נגטיב על הגוש היריב | G100: בן גביר; סמוטריץ'; נתניהו | H100: טרור יהודי ביו"ש: "אזלת היד של הממשלה ממיטה עלינו בידוד" | I100: טקסט | J100: 42K | L100: https://x.com/naftalibennett/status/2111103740119789921
...

Sheet סיכום לפי מועמד
A1: מועמד | B1: פוסטים מסווגים | C1: נגטיב (ראשית או משנית) | D1: שיעור נגטיב | E1: מתוך זה נגטיב מתוך הגוש | F1: סיסמה וקריאה להצביע | G1: תוכנית מהותית
A2: נתניהו | B2: =COUNTIF(פוסטים!$B$2:$B$1799,A2) -> 259 | C2: =SUMPRODUCT((פוסטים!$B$2:$B$1799=A2)*(ISNUMBER(SEARCH("נגטיב",פוסטים!$E$2:$E$1799&פוסטים!$F$2:$F$1799)))) -> 84 | D2: =IF(B2=0,0,C2/B2) -> 0.32432432 | E2: =SUMPRODUCT((פוסטים!$B$2:$B$1799=A2)*(ISNUMBER(SEARCH("מתוך הגוש",פוסטים!$E$2:$E$1799&פוסטים!$F$2:$F$1799)))) -> 9 | F2: =COUNTIFS(פוסטים!$B$2:$B$1799,A2,פוסטים!$E$2:$E$1799,"סיסמה וקריאה להצביע") -> 24 | G2: =COUNTIFS(פוסטים!$B$2:$B$1799,A2,פוסטים!$E$2:$E$1799,"תוכנית מהותית") -> 5
A3: בן גביר | B3: =COUNTIF(פוסטים!$B$2:$B$1799,A3) -> 143 | C3: =SUMPRODUCT((פוסטים!$B$2:$B$1799=A3)*(ISNUMBER(SEARCH("נגטיב",פוסטים!$E$2:$E$1799&פוסטים!$F$2:$F$1799)))) -> 33 | D3: =IF(B3=0,0,C3/B3) -> 0.23076923 | E3: =SUMPRODUCT((פוסטים!$B$2:$B$1799=A3)*(ISNUMBER(SEARCH("מתוך הגוש",פוסטים!$E$2:$E$1799&פוסטים!$F$2:$F$1799)))) -> 6 | F3: =COUNTIFS(פוסטים!$B$2:$B$1799,A3,פוסטים!$E$2:$E$1799,"סיסמה וקריאה להצביע") -> 10 | G3: =COUNTIFS(פוסטים!$B$2:$B$1799,A3,פוסטים!$E$2:$E$1799,"תוכנית מהותית") -> 12
A4: סמוטריץ' | B4: =COUNTIF(פוסטים!$B$2:$B$1799,A4) -> 133 | C4: =SUMPRODUCT((פוסטים!$B$2:$B$1799=A4)*(ISNUMBER(SEARCH("נגטיב",פוסטים!$E$2:$E$1799&פוסטים!$F$2:$F$1799)))) -> 21 | D4: =IF(B4=0,0,C4/B4) -> 0.15789474 | E4: =SUMPRODUCT((פוסטים!$B$2:$B$1799=A4)*(ISNUMBER(SEARCH("מתוך הגוש",פוסטים!$E$2:$E$1799&פוסטים!$F$2:$F$1799)))) -> 5 | F4: =COUNTIFS(פוסטים!$B$2:$B$1799,A4,פוסטים!$E$2:$E$1799,"סיסמה וקריאה להצביע") -> 12 | G4: =COUNTIFS(פוסטים!$B$2:$B$1799,A4,פוסטים!$E$2:$E$1799,"תוכנית מהותית") -> 6
A5: דרעי | B5: =COUNTIF(פוסטים!$B$2:$B$1799,A5) -> 33 | C5: =SUMPRODUCT((פוסטים!$B$2:$B$1799=A5)*(ISNUMBER(SEARCH("נגטיב",פוסטים!$E$2:$E$1799&פוסטים!$F$2:$F$1799)))) -> 6 | D5: =IF(B5=0,0,C5/B5) -> 0.18181818 | E5: =SUMPRODUCT((פוסטים!$B$2:$B$1799=A5)*(ISNUMBER(SEARCH("מתוך הגוש",פוסטים!$E$2:$E$1799&פוסטים!$F$2:$F$1799)))) -> 1 | F5: =COUNTIFS(פוסטים!$B$2:$B$1799,A5,פוסטים!$E$2:$E$1799,"סיסמה וקריאה להצביע") -> 6 | G5: =COUNTIFS(פוסטים!$B$2:$B$1799,A5,פוסטים!$E$2:$E$1799,"תוכנית מהותית") -> 0
A6: אשר | B6: =COUNTIF(פוסטים!$B$2:$B$1799,A6) -> 3 | C6: =SUMPRODUCT((פוסטים!$B$2:$B$1799=A6)*(ISNUMBER(SEARCH("נגטיב",פוסטים!$E$2:$E$1799&פוסטים!$F$2:$F$1799)))) -> 1 | D6: =IF(B6=0,0,C6/B6) -> 0.33333333 | E6: =SUMPRODUCT((פוסטים!$B$2:$B$1799=A6)*(ISNUMBER(SEARCH("מתוך הגוש",פוסטים!$E$2:$E$1799&פוסטים!$F$2:$F$1799)))) -> 1 | F6: =COUNTIFS(פוסטים!$B$2:$B$1799,A6,פוסטים!$E$2:$E$1799,"סיסמה וקריאה להצביע") -> 0 | G6: =COUNTIFS(פוסטים!$B$2:$B$1799,A6,פוסטים!$E$2:$E$1799,"תוכנית מהותית") -> 0
A7: וינטר | B7: =COUNTIF(פוסטים!$B$2:$B$1799,A7) -> 100 | C7: =SUMPRODUCT((פוסטים!$B$2:$B$1799=A7)*(ISNUMBER(SEARCH("נגטיב",פוסטים!$E$2:$E$1799&פוסטים!$F$2:$F$1799)))) -> 27 | D7: =IF(B7=0,0,C7/B7) -> 0.27 | E7: =SUMPRODUCT((פוסטים!$B$2:$B$1799=A7)*(ISNUMBER(SEARCH("מתוך הגוש",פוסטים!$E$2:$E$1799&פוסטים!$F$2:$F$1799)))) -> 18 | F7: =COUNTIFS(פוסטים!$B$2:$B$1799,A7,פוסטים!$E$2:$E$1799,"סיסמה וקריאה להצביע") -> 20 | G7: =COUNTIFS(פוסטים!$B$2:$B$1799,A7,פוסטים!$E$2:$E$1799,"תוכנית מהותית") -> 3
A8: בנט | B8: =COUNTIF(פוסטים!$B$2:$B$1799,A8) -> 243 | C8: =SUMPRODUCT((פוסטים!$B$2:$B$1799=A8)*(ISNUMBER(SEARCH("נגטיב",פוסטים!$E$2:$E$1799&פוסטים!$F$2:$F$1799)))) -> 65 | D8: =IF(B8=0,0,C8/B8) -> 0.26748971 | E8: =SUMPRODUCT((פוסטים!$B$2:$B$1799=A8)*(ISNUMBER(SEARCH("מתוך הגוש",פוסטים!$E$2:$E$1799&פוסטים!$F$2:$F$1799)))) -> 1 | F8: =COUNTIFS(פוסטים!$B$2:$B$1799,A8,פוסטים!$E$2:$E$1799,"סיסמה וקריאה להצביע") -> 17 | G8: =COUNTIFS(פוסטים!$B$2:$B$1799,A8,פוסטים!$E$2:$E$1799,"תוכנית מהותית") -> 30
A9: איזנקוט | B9: =COUNTIF(פוסטים!$B$2:$B$1799,A9) -> 236 | C9: =SUMPRODUCT((פוסטים!$B$2:$B$1799=A9)*(ISNUMBER(SEARCH("נגטיב",פוסטים!$E$2:$E$1799&פוסטים!$F$2:$F$1799)))) -> 99 | D9: =IF(B9=0,0,C9/B9) -> 0.41949153 | E9: =SUMPRODUCT((פוסטים!$B$2:$B$1799=A9)*(ISNUMBER(SEARCH("מתוך הגוש",פוסטים!$E$2:$E$1799&פוסטים!$F$2:$F$1799)))) -> 0 | F9: =COUNTIFS(פוסטים!$B$2:$B$1799,A9,פוסטים!$E$2:$E$1799,"סיסמה וקריאה להצביע") -> 35 | G9: =COUNTIFS(פוסטים!$B$2:$B$1799,A9,פוסטים!$E$2:$E$1799,"תוכנית מהותית") -> 16
A10: ליברמן | B10: =COUNTIF(פוסטים!$B$2:$B$1799,A10) -> 233 | C10: =SUMPRODUCT((פוסטים!$B$2:$B$1799=A10)*(ISNUMBER(SEARCH("נגטיב",פוסטים!$E$2:$E$1799&פוסטים!$F$2:$F$1799)))) -> 111 | D10: =IF(B10=0,0,C10/B10) -> 0.47639485 | E10: =SUMPRODUCT((פוסטים!$B$2:$B$1799=A10)*(ISNUMBER(SEARCH("מתוך הגוש",פוסטים!$E$2:$E$1799&פוסטים!$F$2:$F$1799)))) -> 6 | F10: =COUNTIFS(פוסטים!$B$2:$B$1799,A10,פוסטים!$E$2:$E$1799,"סיסמה וקריאה להצביע") -> 43 | G10: =COUNTIFS(פוסטים!$B$2:$B$1799,A10,פוסטים!$E$2:$E$1799,"תוכנית מהותית") -> 19
A11: גולן | B11: =COUNTIF(פוסטים!$B$2:$B$1799,A11) -> 212 | C11: =SUMPRODUCT((פוסטים!$B$2:$B$1799=A11)*(ISNUMBER(SEARCH("נגטיב",פוסטים!$E$2:$E$1799&פוסטים!$F$2:$F$1799)))) -> 78 | D11: =IF(B11=0,0,C11/B11) -> 0.36792453 | E11: =SUMPRODUCT((פוסטים!$B$2:$B$1799=A11)*(ISNUMBER(SEARCH("מתוך הגוש",פוסטים!$E$2:$E$1799&פוסטים!$F$2:$F$1799)))) -> 4 | F11: =COUNTIFS(פוסטים!$B$2:$B$1799,A11,פוסטים!$E$2:$E$1799,"סיסמה וקריאה להצביע") -> 46 | G11: =COUNTIFS(פוסטים!$B$2:$B$1799,A11,פוסטים!$E$2:$E$1799,"תוכנית מהותית") -> 12
A12: הנדל | B12: =COUNTIF(פוסטים!$B$2:$B$1799,A12) -> 103 | C12: =SUMPRODUCT((פוסטים!$B$2:$B$1799=A12)*(ISNUMBER(SEARCH("נגטיב",פוסטים!$E$2:$E$1799&פוסטים!$F$2:$F$1799)))) -> 16 | D12: =IF(B12=0,0,C12/B12) -> 0.15533981 | E12: לא רלוונטי | F12: =COUNTIFS(פוסטים!$B$2:$B$1799,A12,פוסטים!$E$2:$E$1799,"סיסמה וקריאה להצביע") -> 21 | G12: =COUNTIFS(פוסטים!$B$2:$B$1799,A12,פוסטים!$E$2:$E$1799,"תוכנית מהותית") -> 2
A13: עבאס | B13: =COUNTIF(פוסטים!$B$2:$B$1799,A13) -> 50 | C13: =SUMPRODUCT((פוסטים!$B$2:$B$1799=A13)*(ISNUMBER(SEARCH("נגטיב",פוסטים!$E$2:$E$1799&פוסטים!$F$2:$F$1799)))) -> 13 | D13: =IF(B13=0,0,C13/B13) -> 0.26 | E13: לא רלוונטי | F13: =COUNTIFS(פוסטים!$B$2:$B$1799,A13,פוסטים!$E$2:$E$1799,"סיסמה וקריאה להצביע") -> 10 | G13: =COUNTIFS(פוסטים!$B$2:$B$1799,A13,פוסטים!$E$2:$E$1799,"תוכנית מהותית") -> 2
A14: ג'בארין | B14: =COUNTIF(פוסטים!$B$2:$B$1799,A14) -> 50 | C14: =SUMPRODUCT((פוסטים!$B$2:$B$1799=A14)*(ISNUMBER(SEARCH("נגטיב",פוסטים!$E$2:$E$1799&פוסטים!$F$2:$F$1799)))) -> 13 | D14: =IF(B14=0,0,C14/B14) -> 0.26 | E14: לא רלוונטי | F14: =COUNTIFS(פוסטים!$B$2:$B$1799,A14,פוסטים!$E$2:$E$1799,"סיסמה וקריאה להצביע") -> 10 | G14: =COUNTIFS(פוסטים!$B$2:$B$1799,A14,פוסטים!$E$2:$E$1799,"תוכנית מהותית") -> 2
A16: הערה: החישובים מבוססים על גיליון "פוסטים" ומתעדכנים אם משנים אותו. אצל מועמדים מחוץ לגושים הקטגוריה "נגטיב מתוך הגוש" לא רלוונטית.

Sheet כמויות לפי רשת
A1: מועמד | B1: גוש | C1: רשת | D1: כל הפוסטים בתקופה | E1: מתוכם סווגו | F1: נאסף
A2: נתניהו | B2: ימין | C2: X | D2: 167 | E2: 167 | F2: כן
A3: נתניהו | B3: ימין | C3: פייסבוק | D3: 193 | E3: 54 | F3: כן
A4: נתניהו | B4: ימין | C4: אינסטגרם | D4: 226 | E4: 29 | F4: כן
A5: נתניהו | B5: ימין | C5: טיקטוק | D5: 61 | E5: 9 | F5: כן
A6: בן גביר | B6: ימין | C6: X | D6: 87 | E6: 87 | F6: כן
A7: בן גביר | B7: ימין | C7: פייסבוק | D7: 88 | E7: 35 | F7: כן
A8: בן גביר | B8: ימין | C8: אינסטגרם | D8: 90 | E8: 18 | F8: כן
A9: בן גביר | B9: ימין | C9: טיקטוק | D9: 40 | E9: 3 | F9: כן
A10: סמוטריץ' | B10: ימין | C10: X | D10: 100 | E10: 100 | F10: כן
A11: סמוטריץ' | B11: ימין | C11: פייסבוק | D11: 96 | E11: 1 | F11: כן
A12: סמוטריץ' | B12: ימין | C12: אינסטגרם | D12: 122 | E12: 31 | F12: כן
A13: סמוטריץ' | B13: ימין | C13: טיקטוק | D13: 25 | E13: 1 | F13: כן
A14: דרעי | B14: ימין | C14: X | D14: 29 | E14: 29 | F14: כן
A15: דרעי | B15: ימין | C15: פייסבוק | E15: 0 | F15: לא
A16: דרעי | B16: ימין | C16: אינסטגרם | D16: 13 | E16: 4 | F16: כן
A17: דרעי | B17: ימין | C17: טיקטוק | D17: 0 | E17: 0 | F17: כן
A18: וינטר | B18: ימין | C18: X | D18: 4 | E18: 4 | F18: כן
A19: וינטר | B19: ימין | C19: פייסבוק | E19: 0 | F19: לא
A20: וינטר | B20: ימין | C20: אינסטגרם | D20: 95 | E20: 91 | F20: כן
A21: וינטר | B21: ימין | C21: טיקטוק | D21: 71 | E21: 5 | F21: כן
A22: בנט | B22: שינוי | C22: X | D22: 174 | E22: 174 | F22: כן
A23: בנט | B23: שינוי | C23: פייסבוק | D23: 141 | E23: 45 | F23: כן
A24: בנט | B24: שינוי | C24: אינסטגרם | D24: 140 | E24: 15 | F24: כן
A25: בנט | B25: שינוי | C25: טיקטוק | D25: 37 | E25: 9 | F25: כן
A26: איזנקוט | B26: שינוי | C26: X | D26: 165 | E26: 165 | F26: כן
A27: איזנקוט | B27: שינוי | C27: פייסבוק | D27: 176 | E27: 52 | F27: כן
A28: איזנקוט | B28: שינוי | C28: אינסטגרם | D28: 168 | E28: 11 | F28: כן
A29: איזנקוט | B29: שינוי | C29: טיקטוק | D29: 100 | E29: 8 | F29: כן
A30: ליברמן | B30: שינוי | C30: X | D30: 142 | E30: 142 | F30: כן
A31: ליברמן | B31: שינוי | C31: פייסבוק | D31: 141 | E31: 11 | F31: כן
... A38: אשר | B38: ימין | C38: X | D38: 3 | E38: 3 | F38: כן
A39: אשר | B39: ימין | C39: פייסבוק | E39: 0 | F39: לא
A40: אשר | B40: ימין | C40: אינסטגרם | D40: 0 | E40: 0 | F40: כן
A41: אשר | B41: ימין | C41: טיקטוק | D41: 0 | E41: 0 | F41: כן
A42: הנדל | B42: מחוץ לגושים | C42: X | D42: 5 | E42: 5 | F42: כן
A43: הנדל | B43: מחוץ לגושים | C43: פייסבוק | D43: 40 | E43: 1 | F43: כן
A44: הנדל | B44: מחוץ לגושים | C44: אינסטגרם | D44: 101 | E44: 96 | F44: כן
A45: הנדל | B45: מחוץ לגושים | C45: טיקטוק | D45: 27 | E45: 1 | F45: כן
A46: עבאס | B46: מחוץ לגושים | C46: X | D46: 1 | E46: 1 | F46: כן
A47: עבאס | B47: מחוץ לגושים | C47: פייסבוק | D47: 43 | E47: 0 | F47: כן
A48: עבאס | B48: מחוץ לגושים | C48: אינסטגרם | D48: 49 | E48: 49 | F48: כן
A49: עבאס | B49: מחוץ לגושים | C49: טיקטוק | D49: 16 | E49: 0 | F49: כן
A50: ג'בארין | B50: מחוץ לגושים | C50: X | D50: 3 | E50: 3 | F50: כן
A51: ג'בארין | B51: מחוץ לגושים | C51: פייסבוק | D51: 34 | E51: 1 | F51: כן
... A53: ג'בארין | B53: מחוץ לגושים | C53: טיקטוק | D53: 8 | E53: 0 | F53: כן
